BEGIN:VCALENDAR
VERSION:2.0
PRODID:-//Miami Beach Bandshell - ECPv6.15.20//NONSGML v1.0//EN
CALSCALE:GREGORIAN
METHOD:PUBLISH
X-WR-CALNAME:Miami Beach Bandshell
X-ORIGINAL-URL:https://miamibeachbandshell.com
X-WR-CALDESC:Events for Miami Beach Bandshell
REFRESH-INTERVAL;VALUE=DURATION:PT1H
X-Robots-Tag:noindex
X-PUBLISHED-TTL:PT1H
BEGIN:VTIMEZONE
TZID:UTC
BEGIN:STANDARD
TZOFFSETFROM:+0000
TZOFFSETTO:+0000
TZNAME:UTC
DTSTART:20250101T000000
END:STANDARD
END:VTIMEZONE
BEGIN:VEVENT
DTSTART;TZID=UTC:20260904T190000
DTEND;TZID=UTC:20260904T230000
DTSTAMP:20260422T081803
CREATED:20260413T164612Z
LAST-MODIFIED:20260415T164245Z
UID:52351-1788548400-1788562800@miamibeachbandshell.com
SUMMARY:Hulvey
DESCRIPTION:Hulvey blends versatility and intention\, pushing faith-based rap forward. With nuanced songwriting and a growing presence\, he continues using music to inspire\, connect\, and bring listeners closer to his message.
URL:https://miamibeachbandshell.com/event/hulvey/
END:VEVENT
END:VCALENDAR